View In:
ArcGIS JavaScript
ArcGIS Online Map Viewer
ArcGIS Earth
Service Description: Obliques_2025_Company2
Name: Obliques_2025_Company2
Description:
Single Fused Map Cache: false
Extent:
XMin: -58024.5635130287
YMin: -3760586.769306377
XMax: -45655.05995297668
YMax: -3755303.5463527148
Spatial Reference: 102564
(102564)
LatestVCSWkid(0)
Initial Extent:
XMin: -58024.5635130287
YMin: -3760586.769306377
XMax: -45655.05995297668
YMax: -3755303.5463527148
Spatial Reference: 102564
(102564)
LatestVCSWkid(0)
Full Extent:
XMin: -58024.5635130287
YMin: -3760586.769306377
XMax: -45655.05995297668
YMax: -3755303.5463527148
Spatial Reference: 102564
(102564)
LatestVCSWkid(0)
Pixel Size X: 0.0509712685228536
Pixel Size Y: 0.050971268522853386
Band Count: 3
Pixel Type: U8
RasterFunction Infos: {"rasterFunctionInfos": [{
"name": "None",
"description": "",
"help": ""
}]}
Mensuration Capabilities: Basic,Base-Top Height
Inspection Capabilities: Nadir,Oblique
Has Histograms: true
Has Colormap: false
Has Multi Dimensions : false
Rendering Rule:
Min Scale: 0
Max Scale: 0
Copyright Text:
Service Data Type: esriImageServiceDataTypeRGB
Min Values: 0, 0, 0
Max Values: 255, 255, 255
Mean Values: 114.4502992520526, 114.17725098346774, 104.37271348722113
Standard Deviation Values: 51.56719450837927, 46.09731444433933, 44.88266561798138
Object ID Field: OBJECTID
Fields:
-
OBJECTID
(
type: esriFieldTypeOID, alias: OBJECTID
)
-
Shape
(
type: esriFieldTypeGeometry, alias: Shape
)
-
Name
(
type: esriFieldTypeString, alias: Name, length: 200
)
-
MinPS
(
type: esriFieldTypeDouble, alias: MinPS
)
-
MaxPS
(
type: esriFieldTypeDouble, alias: MaxPS
)
-
LowPS
(
type: esriFieldTypeDouble, alias: LowPS
)
-
HighPS
(
type: esriFieldTypeDouble, alias: HighPS
)
-
Category
(
type: esriFieldTypeInteger, alias: Category
, Coded Values:
[0: Unknown]
, [1: Primary]
, [2: Overview]
, ...6 more...
)
-
Tag
(
type: esriFieldTypeString, alias: Tag, length: 100
)
-
GroupName
(
type: esriFieldTypeString, alias: GroupName, length: 100
)
-
ProductName
(
type: esriFieldTypeString, alias: ProductName, length: 100
)
-
CenterX
(
type: esriFieldTypeDouble, alias: CenterX
)
-
CenterY
(
type: esriFieldTypeDouble, alias: CenterY
)
-
ZOrder
(
type: esriFieldTypeInteger, alias: ZOrder
)
-
Shape_Length
(
type: esriFieldTypeDouble, alias: Shape_Length
)
-
Shape_Area
(
type: esriFieldTypeDouble, alias: Shape_Area
)
-
SensorAzimuth
(
type: esriFieldTypeDouble, alias: Sensor Azimuth
)
-
SensorElevation
(
type: esriFieldTypeDouble, alias: Sensor Elevation
)
-
OBJECTID_1
(
type: esriFieldTypeInteger, alias: OBJECTID
)
-
CameraID
(
type: esriFieldTypeString, alias: CameraID, length: 8000
)
-
PerspectiveX
(
type: esriFieldTypeDouble, alias: PerspectiveX
)
-
PerspectiveY
(
type: esriFieldTypeDouble, alias: PerspectiveY
)
-
PerspectiveZ
(
type: esriFieldTypeDouble, alias: PerspectiveZ
)
-
Image_Name
(
type: esriFieldTypeString, alias: Image_Name, length: 8000
)
-
CaptureDate
(
type: esriFieldTypeDate, alias: CaptureDate, length: 8
)
Default Mosaic Method: Northwest
Allowed Mosaic Methods: NorthWest,Center,LockRaster,ByAttribute,Nadir,Viewpoint,Seamline,None
SortField:
SortValue: null
Mosaic Operator: First
Default Compression Quality: 75
Default Resampling Method: Bilinear
Max Record Count: 1000
Max Image Height: 4100
Max Image Width: 15000
Max Download Image Count: 20
Max Mosaic Image Count: 20
Allow Raster Function: true
Allow Copy: true
Allow Analysis: true
Allow Compute TiePoints: false
Supports Statistics: true
Supports Advanced Queries: true
Use StandardizedQueries: true
Raster Type Infos:
Name: Raster Dataset
Description: Supports all ArcGIS Raster Datasets
Help:
Has Raster Attribute Table: false
Edit Fields Info: null
Ownership Based AccessControl For Rasters: null
Child Resources:
Info
Histograms
Statistics
Key Properties
Legend
Raster Function Infos
Supported Operations:
Export Image
Query
Identify
Measure
Compute Histograms
Compute Statistics Histograms
Get Samples
Compute Class Statistics
Query GPS Info
Find Images
Image to Map
Map to Image
Measure from Image
Image to Map Multiray
Query Boundary
Compute Pixel Location
Compute Angles
Validate
Project