View In:
ArcGIS JavaScript
ArcGIS Online Map Viewer
ArcGIS Earth
Service Description: 1957Imagery
Name: 1957Imagery
Description:
Single Fused Map Cache: false
Extent:
XMin: 2487081.9560693265
YMin: -4037743.3880240023
XMax: 2518973.2491027387
YMax: -4017537.076925928
Spatial Reference: 102100
(3857)
Initial Extent:
XMin: 2487081.9560693265
YMin: -4037743.3880240023
XMax: 2518973.2491027387
YMax: -4017537.076925928
Spatial Reference: 102100
(3857)
Full Extent:
XMin: 2487081.9560693265
YMin: -4037743.3880240023
XMax: 2518973.2491027387
YMax: -4017537.076925928
Spatial Reference: 102100
(3857)
Pixel Size X: 0.7604934549520017
Pixel Size Y: 0.7604934549519963
Band Count: 1
Pixel Type: U8
RasterFunction Infos: {"rasterFunctionInfos": [{
"name": "None",
"description": "",
"help": ""
}]}
Mensuration Capabilities: Basic
Inspection Capabilities:
Has Histograms: false
Has Colormap: false
Has Multi Dimensions : false
Rendering Rule:
Min Scale: 0
Max Scale: 0
Resampling: false
Copyright Text:
Service Data Type: esriImageServiceDataTypeGeneric
Min Values: 0
Max Values: 254
Mean Values: 90.60593860878447
Standard Deviation Values: 34.349853508860036
Object ID Field:
Fields:
None
Default Mosaic Method: Center
Allowed Mosaic Methods:
SortField:
SortValue: null
Mosaic Operator: First
Default Compression Quality: 75
Default Resampling Method: Bilinear
Max Record Count: null
Max Image Height: 4100
Max Image Width: 15000
Max Download Image Count: null
Max Mosaic Image Count: null
Allow Raster Function: true
Allow Copy: true
Allow Analysis: true
Allow Compute TiePoints: false
Supports Statistics: false
Supports Advanced Queries: false
Use StandardizedQueries: true
Raster Type Infos:
Name: Raster Dataset
Description: Supports all ArcGIS Raster Datasets
Help:
Has Raster Attribute Table: true
Edit Fields Info: null
Ownership Based AccessControl For Rasters: null
Child Resources:
Info
Raster Attribute Table
Statistics
Key Properties
Legend
Raster Function Infos
Supported Operations:
Export Image
Identify
Measure
Compute Histograms
Compute Statistics Histograms
Get Samples
Compute Class Statistics
Query Boundary
Compute Pixel Location
Compute Angles
Validate
Project